BEGIN:VCALENDAR
PRODID:-//AT Content Types//AT Event//EN
VERSION:2.0
METHOD:PUBLISH
BEGIN:VEVENT
DTSTAMP:20260421T063025Z
CREATED:20070807T072426Z
UID:ATEvent-99bada5029b17a8eff3b2847ea9c7075
LAST-MODIFIED:20070807T072504Z
SUMMARY:Google Web Toolkit technical talk
DTSTART:20070807T170000Z
DTEND:20070807T190000Z
LOCATION:303 Computer Science Building
CATEGORIES:Technical talk
CONTACT:Fritz Meissner\, 0214180888\, fritz.meissner@bsg.co.za
URL:http://www.bsg.co.za/web/guest/ctjug_talk_aug_07
CLASS:PUBLIC
END:VEVENT
END:VCALENDAR
