BEGIN:VCALENDAR
PRODID:-//AT Content Types//AT Event//EN
VERSION:1.0
BEGIN:VEVENT
DTSTART:20071024T160000Z
DTEND:20071024T180000Z
DCREATED:20071011T144151Z
UID:ATEvent-57a17a9167c6aa26e313254004427f4a
SEQUENCE:0
LAST-MODIFIED:20090806T144235Z
SUMMARY:Open Day 2007
LOCATION:Third Floor\, CS Building\, Upper Campus\, UCT
PRIORITY:3
TRANSP:0
END:VEVENT
END:VCALENDAR
