BEGIN:VCALENDAR
PRODID:-//AT Content Types//AT Event//EN
VERSION:2.0
METHOD:PUBLISH
BEGIN:VEVENT
DTSTAMP:20260421T222614Z
CREATED:20080722T091303Z
UID:ATEvent-0483ab70d0167f4513344c2c4ef82134
LAST-MODIFIED:20090806T144236Z
SUMMARY:Google Technical Talk
DTSTART:20080724T110000Z
DTEND:20080724T120000Z
LOCATION:Lecture Theatre CSC302\, Computer Science Building\, Upper Campus\, UCT
CATEGORIES:Technical talk
CONTACT:hussein\, hussein@cs.uct.ac.za
CLASS:PUBLIC
END:VEVENT
END:VCALENDAR
