BEGIN:VCALENDAR
PRODID:-//AT Content Types//AT Event//EN
VERSION:1.0
BEGIN:VEVENT
DTSTART:20081112T160000Z
DTEND:20081112T183000Z
DCREATED:20081111T150049Z
UID:ATEvent-c9af32292295a08c15bb1de150b626d7
SEQUENCE:0
LAST-MODIFIED:20090806T144236Z
SUMMARY:Open Evening 2008
PRIORITY:3
TRANSP:0
END:VEVENT
END:VCALENDAR
