BEGIN:VCALENDAR
PRODID:-//AT Content Types//AT Event//EN
VERSION:1.0
BEGIN:VEVENT
DTSTART:20091116T160000Z
DTEND:20091116T180000Z
DCREATED:20091110T184558Z
UID:ATEvent-5bc689dcaba8ce5d3893757a6f4fdef7
SEQUENCE:0
LAST-MODIFIED:20091110T184616Z
SUMMARY:Open Evening 2009
LOCATION:Molly Blackburn Hall
PRIORITY:3
TRANSP:0
END:VEVENT
END:VCALENDAR
