BEGIN:VCALENDAR
PRODID:-//AT Content Types//AT Event//EN
VERSION:2.0
METHOD:PUBLISH
BEGIN:VEVENT
DTSTAMP:20260423T204825Z
CREATED:20101110T121431Z
UID:ATEvent-4c2c5d5f4c4658a35c4ad6e31b501672
LAST-MODIFIED:20101110T121443Z
SUMMARY:Open Evening 2010
DTSTART:20101115T160000Z
DTEND:20101115T180000Z
LOCATION:Computer Science 2.03
CATEGORIES:Open Day
CONTACT:Jane Wright\, (0210 6504342\, jwright@cs.uct.ac.za
URL:http://www.cs.uct.ac.za/
CLASS:PUBLIC
END:VEVENT
END:VCALENDAR
